BEGIN:VCALENDAR
VERSION:2.0
PRODID:-//hacksw/handcal//NONSGML v1.0//EN
BEGIN:VEVENT
SUMMARY:TAE, Montceau Les Mines
UID:a5d4d65a-0bcb-4025-a7d6-aeef01063ee5
DTSTART:20260505T220000Z
DTEND:20260506T220000Z
LOCATION:Localisation   
CATEGORIES:Sportif
STATUS:
URL;VALUE=URI:https://www.cr-bfc-tiralarc.net/evenements/2026/05/06/tae-montceau-les-mines-2430198
END:VEVENT
END:VCALENDAR
