BEGIN:VCALENDAR
VERSION:2.0
PRODID:-//hacksw/handcal//NONSGML v1.0//EN
BEGIN:VEVENT
SUMMARY:TAE, BFC Para Brienon Sur Armancon
UID:1a38ef7a-a389-40ef-b2f4-8e9b636d6336
DTSTART:20260507T220000Z
DTEND:20260508T220000Z
LOCATION:Localisation   
CATEGORIES:Sportif
STATUS:
DESCRIPTION:<h2><a
 href="https://admin.sportsregions.fr/media/uploaded/sites/11779/kcupload/files/Mandat%20Brienon_TAE_08_mai_26.pdf"
 target="_blank" rel="noreferrer noopener">Invitation a la
 competition</a></h2>
URL;VALUE=URI:https://www.cr-bfc-tiralarc.net/evenements/2026/05/08/tae-bfc-para-brienon-sur-armancon-2430199
END:VEVENT
END:VCALENDAR
