BEGIN:VCALENDAR
VERSION:2.0
PRODID:-//hacksw/handcal//NONSGML v1.0//EN
BEGIN:VEVENT
SUMMARY:TAE, Macon
UID:ab3acf77-6a85-47ff-96f6-b9c77eebd759
DTSTART:20260526T220000Z
DTEND:20260527T220000Z
LOCATION:Localisation   
CATEGORIES:Sportif
STATUS:
URL;VALUE=URI:https://www.cr-bfc-tiralarc.net/evenements/2026/05/27/tae-macon-2430969
END:VEVENT
END:VCALENDAR
