BEGIN:VCALENDAR
VERSION:2.0
PRODID:-//hacksw/handcal//NONSGML v1.0//EN
BEGIN:VEVENT
SUMMARY:TAE, Montceau Les Mines
UID:78362222-e429-42d4-9d80-63a1c8dc6b14
DTSTART:20260602T220000Z
DTEND:20260603T220000Z
LOCATION:Localisation   
CATEGORIES:Sportif
STATUS:
URL;VALUE=URI:https://www.cr-bfc-tiralarc.net/evenements/2026/06/03/tae-montceau-les-mines-2430975
END:VEVENT
END:VCALENDAR
