BEGIN:VCALENDAR
VERSION:2.0
PRODID:-//hacksw/handcal//NONSGML v1.0//EN
BEGIN:VEVENT
SUMMARY:TAE, Brienon Sur Armancon
UID:6d3bd5f7-47ea-475b-b299-e8bd8014889d
DTSTART:20260612T220000Z
DTEND:20260614T220000Z
LOCATION:Localisation   
CATEGORIES:Sportif
STATUS:
URL;VALUE=URI:https://www.cr-bfc-tiralarc.net/evenements/2026/06/13/tae-brienon-sur-armancon-2430983
END:VEVENT
END:VCALENDAR
