BEGIN:VCALENDAR
VERSION:2.0
PRODID:-//hacksw/handcal//NONSGML v1.0//EN
BEGIN:VEVENT
SUMMARY:TAE, Asnans
UID:fbe6ba56-6581-4253-8edc-5b7aeb1bde74
DTSTART:20260619T220000Z
DTEND:20260621T220000Z
LOCATION:Localisation   
CATEGORIES:Sportif
STATUS:
DESCRIPTION:<h2><a
 href="https://admin.sportsregions.fr/media/uploaded/sites/11779/kcupload/files/Invitation%20TAE%2020-21%20juin%202026.pdf"
 target="_blank" rel="noreferrer noopener">Invitation a la
 competition</a></h2>
URL;VALUE=URI:https://www.cr-bfc-tiralarc.net/evenements/2026/06/20/tae-asnans-2430988
END:VEVENT
END:VCALENDAR
